BEGIN:VCALENDAR
VERSION:2.0
PRODID:permaculture-network.eu
BEGIN:VEVENT
UID:69e9dba5e437b
DTSTART:20260602T160000Z
SEQUENCE:0
TRANSP:OPAQUE
DTEND:20260602T180000Z
LOCATION:BarcelonaOff
SUMMARY:Green Film Screening and Joint Climate Action Initiative
CLASS:PUBLIC
DESCRIPTION:&lt\;p&gt\;Se está organizando esta actividad desde la Asociac
 ión ambientalista ESALogika\, de Barcelona\, Cambium y otras entidades.&a
 mp\;nbsp\;&lt\;br&gt\;&quot\;¡Hola! Estamos organizando una proyección d
 el documental en la Casa Orlandai\, seguida de conversaciones guiadas en g
 rupos y me gustaría invitarte a participar como colaborador o participant
 e.&lt\;br&gt\;La idea es la siguiente: una reunión para ver el documental
  de permacultura Inhabit (con subtitulos en castellano)\, seguida de una c
 onversación inicial de estilo semi-extrovertido entre los asistentes sobr
 e:&lt\;/p&gt\;
DTSTAMP:20260423T084317Z
END:VEVENT
END:VCALENDAR