BEGIN:VCALENDAR
VERSION:2.0
PRODID:permaculture-network.eu
BEGIN:VEVENT
UID:69e9dba6ce292
DTSTART:20260312T163000Z
SEQUENCE:0
TRANSP:OPAQUE
DTEND:20260312T180000Z
LOCATION:On
SUMMARY:PermaTalks - Jorge Barbosa - Permaculture in Schools
CLASS:PUBLIC
DESCRIPTION:<p>Jorge will talk about his collaborations with schools in Ber
 lin\, how he supports them in the development of their school gardens\, of
 fering design\, consulting\, implementation and co-creating activities alo
 ng with the learning spaces.</p>\n
DTSTAMP:20260423T084318Z
END:VEVENT
END:VCALENDAR