BEGIN:VCALENDAR
VERSION:2.0
PRODID:permaculture-network.eu
BEGIN:VEVENT
UID:69e9dba5566fe
DTSTART:20250910T053000Z
SEQUENCE:0
TRANSP:OPAQUE
DTEND:20250910T160000Z
LOCATION:PulaOff
SUMMARY:Istra kao bioregija: održivost i identitet
CLASS:PUBLIC
DESCRIPTION:&lt\;p&gt\;&lt\;strong&gt\;Bioregija&lt\;/strong&gt\; je zemljo
 pisno područje određeno ne političkim granicama\, već ekološkim susta
 vima i lokalnom kulturom stanovnika. Glagolski oblik te riječi\, &lt\;str
 ong&gt\;bioregioniranje&lt\;/strong&gt\;\, odnosi se na način života lju
 di u skladu s prirodom\, a to je cjelovitije od uske uloge potrošača u e
 konomiji\, odnosno građana ili glasača u državi.&lt\;/p&gt\;
DTSTAMP:20260423T084317Z
END:VEVENT
END:VCALENDAR