BEGIN:VCALENDAR
VERSION:2.0
PRODID:permaculture-network.eu
BEGIN:VEVENT
UID:69e9dba597dc9
DTSTART:20250607T060000Z
SEQUENCE:0
TRANSP:OPAQUE
DTEND:20250607T150000Z
LOCATION:Off
SUMMARY:Waldgarten Tage und Intensivseminar 2025 in einem der ältesten Wal
 dgärten Europas
CLASS:PUBLIC
DESCRIPTION:&lt\;p&gt\;&lt\;strong&gt\;Waldgarten-Tage zu Pfingsten 2025 in
  Wels / OÖ&lt\;/strong&gt\; &lt\;strong&gt\;– entdecke den ältesten es
 sbaren Waldgarten Mitteleuropas!&lt\;/strong&gt\;&lt\;/p&gt\;\n&lt\;p&gt\;
 Gerne möchten wir\, der Verein „Österreichisches Waldgarten-Institut
 “ Pfingsten 2025 wieder die Tore im Rahmen eines geführten Rundganges z
 u unserem Gelände öffnen. Seit einigen Jahren nutzen wir das Pfingstwoch
 enende um einer großen Anzahl an Interessierten das Thema Permakultur\, s
 peziell auch Waldgarten näher zu bringen.&lt\;/p&gt\;
DTSTAMP:20260423T084317Z
END:VEVENT
BEGIN:VEVENT
UID:69e9dba597e8b
DTSTART:20250608T060000Z
SEQUENCE:0
TRANSP:OPAQUE
DTEND:20250608T150000Z
LOCATION:Off
SUMMARY:Waldgarten Tage und Intensivseminar 2025 in einem der ältesten Wal
 dgärten Europas
CLASS:PUBLIC
DESCRIPTION:&lt\;p&gt\;&lt\;strong&gt\;Waldgarten-Tage zu Pfingsten 2025 in
  Wels / OÖ&lt\;/strong&gt\; &lt\;strong&gt\;– entdecke den ältesten es
 sbaren Waldgarten Mitteleuropas!&lt\;/strong&gt\;&lt\;/p&gt\;\n&lt\;p&gt\;
 Gerne möchten wir\, der Verein „Österreichisches Waldgarten-Institut
 “ Pfingsten 2025 wieder die Tore im Rahmen eines geführten Rundganges z
 u unserem Gelände öffnen. Seit einigen Jahren nutzen wir das Pfingstwoch
 enende um einer großen Anzahl an Interessierten das Thema Permakultur\, s
 peziell auch Waldgarten näher zu bringen.&lt\;/p&gt\;
DTSTAMP:20260423T084317Z
END:VEVENT
BEGIN:VEVENT
UID:69e9dba597e92
DTSTART:20250609T060000Z
SEQUENCE:0
TRANSP:OPAQUE
DTEND:20250609T150000Z
LOCATION:Off
SUMMARY:Waldgarten Tage und Intensivseminar 2025 in einem der ältesten Wal
 dgärten Europas
CLASS:PUBLIC
DESCRIPTION:&lt\;p&gt\;&lt\;strong&gt\;Waldgarten-Tage zu Pfingsten 2025 in
  Wels / OÖ&lt\;/strong&gt\; &lt\;strong&gt\;– entdecke den ältesten es
 sbaren Waldgarten Mitteleuropas!&lt\;/strong&gt\;&lt\;/p&gt\;\n&lt\;p&gt\;
 Gerne möchten wir\, der Verein „Österreichisches Waldgarten-Institut
 “ Pfingsten 2025 wieder die Tore im Rahmen eines geführten Rundganges z
 u unserem Gelände öffnen. Seit einigen Jahren nutzen wir das Pfingstwoch
 enende um einer großen Anzahl an Interessierten das Thema Permakultur\, s
 peziell auch Waldgarten näher zu bringen.&lt\;/p&gt\;
DTSTAMP:20260423T084317Z
END:VEVENT
END:VCALENDAR