BEGIN:VCALENDAR
VERSION:2.0
PRODID:permaculture-network.eu
BEGIN:VEVENT
UID:69e9dba52ce3d
DTSTART:20240601T140856Z
SEQUENCE:0
TRANSP:OPAQUE
DTEND:20240601T140856Z
LOCATION:Off
SUMMARY:SyntrAgua: Syntropic Agroforestry &amp\; Water
CLASS:PUBLIC
DESCRIPTION:&lt\;p dir=&quot\;ltr&quot\;&gt\;&lt\;strong&gt\;Join us from 1
 st-4th June&lt\;/strong&gt\;&amp\;nbsp\;for a 4-day immersion into the pra
 ctices of Permaculture Design\, Syntropic Agroforestry and Regenerative li
 ving. An international team of facilitators will assist your learning and 
 practice\, through techniques that are available to everyone. Together we 
 will carry out the full implementation of a Syntropic Agroforestry System!
  Check out the long description\, or go directly to the info pack and the 
 registration form.&lt\;/p&gt\;\n&lt\;p&gt\;Info-Pack (PDF):&amp\;nbsp\;&lt
 \;a href=&quot\;https://shorturl.at/kuMZ1&quot\;&gt\;&lt\;strong&gt\;InfoP
 ack&lt\;/strong&gt\;&lt\;/a&gt\;&lt\;/p&gt\;
DTSTAMP:20260423T084317Z
END:VEVENT
BEGIN:VEVENT
UID:69e9dba52cf5f
DTSTART:20240602T140856Z
SEQUENCE:0
TRANSP:OPAQUE
DTEND:20240602T140856Z
LOCATION:Off
SUMMARY:SyntrAgua: Syntropic Agroforestry &amp\; Water
CLASS:PUBLIC
DESCRIPTION:&lt\;p dir=&quot\;ltr&quot\;&gt\;&lt\;strong&gt\;Join us from 1
 st-4th June&lt\;/strong&gt\;&amp\;nbsp\;for a 4-day immersion into the pra
 ctices of Permaculture Design\, Syntropic Agroforestry and Regenerative li
 ving. An international team of facilitators will assist your learning and 
 practice\, through techniques that are available to everyone. Together we 
 will carry out the full implementation of a Syntropic Agroforestry System!
  Check out the long description\, or go directly to the info pack and the 
 registration form.&lt\;/p&gt\;\n&lt\;p&gt\;Info-Pack (PDF):&amp\;nbsp\;&lt
 \;a href=&quot\;https://shorturl.at/kuMZ1&quot\;&gt\;&lt\;strong&gt\;InfoP
 ack&lt\;/strong&gt\;&lt\;/a&gt\;&lt\;/p&gt\;
DTSTAMP:20260423T084317Z
END:VEVENT
BEGIN:VEVENT
UID:69e9dba52cf67
DTSTART:20240603T140856Z
SEQUENCE:0
TRANSP:OPAQUE
DTEND:20240603T140856Z
LOCATION:Off
SUMMARY:SyntrAgua: Syntropic Agroforestry &amp\; Water
CLASS:PUBLIC
DESCRIPTION:&lt\;p dir=&quot\;ltr&quot\;&gt\;&lt\;strong&gt\;Join us from 1
 st-4th June&lt\;/strong&gt\;&amp\;nbsp\;for a 4-day immersion into the pra
 ctices of Permaculture Design\, Syntropic Agroforestry and Regenerative li
 ving. An international team of facilitators will assist your learning and 
 practice\, through techniques that are available to everyone. Together we 
 will carry out the full implementation of a Syntropic Agroforestry System!
  Check out the long description\, or go directly to the info pack and the 
 registration form.&lt\;/p&gt\;\n&lt\;p&gt\;Info-Pack (PDF):&amp\;nbsp\;&lt
 \;a href=&quot\;https://shorturl.at/kuMZ1&quot\;&gt\;&lt\;strong&gt\;InfoP
 ack&lt\;/strong&gt\;&lt\;/a&gt\;&lt\;/p&gt\;
DTSTAMP:20260423T084317Z
END:VEVENT
BEGIN:VEVENT
UID:69e9dba52cf6d
DTSTART:20240604T140856Z
SEQUENCE:0
TRANSP:OPAQUE
DTEND:20240604T140856Z
LOCATION:Off
SUMMARY:SyntrAgua: Syntropic Agroforestry &amp\; Water
CLASS:PUBLIC
DESCRIPTION:&lt\;p dir=&quot\;ltr&quot\;&gt\;&lt\;strong&gt\;Join us from 1
 st-4th June&lt\;/strong&gt\;&amp\;nbsp\;for a 4-day immersion into the pra
 ctices of Permaculture Design\, Syntropic Agroforestry and Regenerative li
 ving. An international team of facilitators will assist your learning and 
 practice\, through techniques that are available to everyone. Together we 
 will carry out the full implementation of a Syntropic Agroforestry System!
  Check out the long description\, or go directly to the info pack and the 
 registration form.&lt\;/p&gt\;\n&lt\;p&gt\;Info-Pack (PDF):&amp\;nbsp\;&lt
 \;a href=&quot\;https://shorturl.at/kuMZ1&quot\;&gt\;&lt\;strong&gt\;InfoP
 ack&lt\;/strong&gt\;&lt\;/a&gt\;&lt\;/p&gt\;
DTSTAMP:20260423T084317Z
END:VEVENT
END:VCALENDAR